BEGIN:VCALENDAR
VERSION:2.0
PRODID:-//Rotary Club Of Aiken - ECPv6.15.18//NONSGML v1.0//EN
CALSCALE:GREGORIAN
METHOD:PUBLISH
X-ORIGINAL-URL:https://www.aikenrotary.com
X-WR-CALDESC:Events for Rotary Club Of Aiken
REFRESH-INTERVAL;VALUE=DURATION:PT1H
X-Robots-Tag:noindex
X-PUBLISHED-TTL:PT1H
BEGIN:VTIMEZONE
TZID:America/New_York
BEGIN:DAYLIGHT
TZOFFSETFROM:-0500
TZOFFSETTO:-0400
TZNAME:EDT
DTSTART:20230312T070000
END:DAYLIGHT
BEGIN:STANDARD
TZOFFSETFROM:-0400
TZOFFSETTO:-0500
TZNAME:EST
DTSTART:20231105T060000
END:STANDARD
BEGIN:DAYLIGHT
TZOFFSETFROM:-0500
TZOFFSETTO:-0400
TZNAME:EDT
DTSTART:20240310T070000
END:DAYLIGHT
BEGIN:STANDARD
TZOFFSETFROM:-0400
TZOFFSETTO:-0500
TZNAME:EST
DTSTART:20241103T060000
END:STANDARD
BEGIN:DAYLIGHT
TZOFFSETFROM:-0500
TZOFFSETTO:-0400
TZNAME:EDT
DTSTART:20250309T070000
END:DAYLIGHT
BEGIN:STANDARD
TZOFFSETFROM:-0400
TZOFFSETTO:-0500
TZNAME:EST
DTSTART:20251102T060000
END:STANDARD
END:VTIMEZONE
BEGIN:VEVENT
DTSTART;TZID=America/New_York:20240722T083000
DTEND;TZID=America/New_York:20240722T093000
DTSTAMP:20260423T054233
CREATED:20240621T185831Z
LAST-MODIFIED:20240621T191128Z
UID:6102-1721637000-1721640600@www.aikenrotary.com
SUMMARY:Jim Tunison\,  President of Aiken Chamber of Commerce
DESCRIPTION:Tunison is “the next generation in Aiken\,” Jameson continued. “He’s young\, he’s smart and he’s innovative. He engages very well with the business community and the community at large. He just exemplifies the same values the Chamber has and the community has.” \nThe Aiken Chamber of Commerce announced Tunison as Jameson’s replacement in a news release issued Thursday morning. It stated that the selection by the Chamber’s board was unanimous. \nBoard Chairman Charlie Hartz said in a prepared statement that Tunison has the energy and the experience as an Aiken Chamber leader and collaborator that the Chamber’s search committee was seeking. \n“His confidence\, professionalism and enthusiasm are precisely what we need to elevate our 5-star Chamber to new heights of service for our membership and community\,” Hartz added. \nTunison is a graduate of Misericordia University in Pennsylvania. He has a Bachelor of Science degree in business administration and a Master of Business Administration degree. \nCONTACT US
URL:https://www.aikenrotary.com/event/jim-tunison-aiken-chamber-of-commerce/
LOCATION:Newberry Hall\, 117 Newberry St SW\, Aiken\, SC\, 29801\, United States
CATEGORIES:Guest Speaker
END:VEVENT
END:VCALENDAR