BEGIN:VCALENDAR
VERSION:2.0
PRODID:-//Rotary Club Of Aiken - ECPv6.15.18//NONSGML v1.0//EN
CALSCALE:GREGORIAN
METHOD:PUBLISH
X-WR-CALNAME:Rotary Club Of Aiken
X-ORIGINAL-URL:https://www.aikenrotary.com
X-WR-CALDESC:Events for Rotary Club Of Aiken
REFRESH-INTERVAL;VALUE=DURATION:PT1H
X-Robots-Tag:noindex
X-PUBLISHED-TTL:PT1H
BEGIN:VTIMEZONE
TZID:America/New_York
BEGIN:DAYLIGHT
TZOFFSETFROM:-0500
TZOFFSETTO:-0400
TZNAME:EDT
DTSTART:20230312T070000
END:DAYLIGHT
BEGIN:STANDARD
TZOFFSETFROM:-0400
TZOFFSETTO:-0500
TZNAME:EST
DTSTART:20231105T060000
END:STANDARD
BEGIN:DAYLIGHT
TZOFFSETFROM:-0500
TZOFFSETTO:-0400
TZNAME:EDT
DTSTART:20240310T070000
END:DAYLIGHT
BEGIN:STANDARD
TZOFFSETFROM:-0400
TZOFFSETTO:-0500
TZNAME:EST
DTSTART:20241103T060000
END:STANDARD
BEGIN:DAYLIGHT
TZOFFSETFROM:-0500
TZOFFSETTO:-0400
TZNAME:EDT
DTSTART:20250309T070000
END:DAYLIGHT
BEGIN:STANDARD
TZOFFSETFROM:-0400
TZOFFSETTO:-0500
TZNAME:EST
DTSTART:20251102T060000
END:STANDARD
END:VTIMEZONE
BEGIN:VEVENT
DTSTART;TZID=America/New_York:20240812T083000
DTEND;TZID=America/New_York:20240812T093000
DTSTAMP:20260421T032313
CREATED:20240621T192758Z
LAST-MODIFIED:20240621T192758Z
UID:6106-1723451400-1723455000@www.aikenrotary.com
SUMMARY:Mark Ward\, the Walk to End Alzheimer's Walk Organizer
DESCRIPTION:Held annually in more than 600 communities nationwide\, the Alzheimer’s Association Walk to End Alzheimer’s® is the world’s largest fundraiser for Alzheimer’s care\, support and research. This inspiring event calls on participants of all ages and abilities to join the fight against the disease. \nSince 1989\, the Alzheimer’s Association mobilized millions of Americans in the Alzheimer’s Association Memory Walk® ; now the Alzheimer’s Association is continuing to lead the way with Walk to End Alzheimer’s. \nAlzheimer’s Association Memory Walk\nWhile there is no fee to register for Walk\, all participants are encouraged to raise critical funds that allow the Alzheimer’s Association to provide 24/7 care and support and advance research toward methods of prevention\, treatment and\, ultimately\, a cure. \nHow to Participate in 3 Easy Steps: \nRegister\nRegister for your local Walk.\nStart or join a team and invite others to walk with you.\nFundraise\nStart fundraising and spread the word.\nWe’ll provide tips and coaching every step of the way\, including easy ways to recruit others and raise funds.\nWalk day\nJoin us on Walk day.\nCome together for an inspiring community event that celebrates our commitment to ending the disease.\nHave a question? Please refer to our FAQ/Website Help page. \nCONTACT US
URL:https://www.aikenrotary.com/event/mark-ward-the-walk-to-end-alzheimers-walk-organizer/
LOCATION:Newberry Hall\, 117 Newberry St SW\, Aiken\, SC\, 29801\, United States
CATEGORIES:Guest Speaker
END:VEVENT
END:VCALENDAR