BEGIN:VCALENDAR
VERSION:2.0
PRODID:-//Rotary Club Of Aiken - ECPv6.15.18//NONSGML v1.0//EN
CALSCALE:GREGORIAN
METHOD:PUBLISH
X-WR-CALNAME:Rotary Club Of Aiken
X-ORIGINAL-URL:https://www.aikenrotary.com
X-WR-CALDESC:Events for Rotary Club Of Aiken
REFRESH-INTERVAL;VALUE=DURATION:PT1H
X-Robots-Tag:noindex
X-PUBLISHED-TTL:PT1H
BEGIN:VTIMEZONE
TZID:America/New_York
BEGIN:DAYLIGHT
TZOFFSETFROM:-0500
TZOFFSETTO:-0400
TZNAME:EDT
DTSTART:20250309T070000
END:DAYLIGHT
BEGIN:STANDARD
TZOFFSETFROM:-0400
TZOFFSETTO:-0500
TZNAME:EST
DTSTART:20251102T060000
END:STANDARD
BEGIN:DAYLIGHT
TZOFFSETFROM:-0500
TZOFFSETTO:-0400
TZNAME:EDT
DTSTART:20260308T070000
END:DAYLIGHT
BEGIN:STANDARD
TZOFFSETFROM:-0400
TZOFFSETTO:-0500
TZNAME:EST
DTSTART:20261101T060000
END:STANDARD
BEGIN:DAYLIGHT
TZOFFSETFROM:-0500
TZOFFSETTO:-0400
TZNAME:EDT
DTSTART:20270314T070000
END:DAYLIGHT
BEGIN:STANDARD
TZOFFSETFROM:-0400
TZOFFSETTO:-0500
TZNAME:EST
DTSTART:20271107T060000
END:STANDARD
END:VTIMEZONE
BEGIN:VEVENT
DTSTART;TZID=America/New_York:20260420T123000
DTEND;TZID=America/New_York:20260420T133000
DTSTAMP:20260420T061443
CREATED:20260312T210255Z
LAST-MODIFIED:20260416T211314Z
UID:7300-1776688200-1776691800@www.aikenrotary.com
SUMMARY:Melanie Shull\,  Founder and CEO of Shull Ag
DESCRIPTION:Shull Ag is a farmer-owned engineering and consulting firm based in South Carolina\, focused on helping producers grow beyond compliance. We provide agricultural engineering\, consulting\, and enterprise development services that strengthen operations\, expand income streams\, and bring new economic opportunities directly to the farm. By combining firsthand farm experience with technical expertise\, we help producers reduce dependence on the federal government and achieve lasting\, long-term success—building stronger\, more profitable agricultural businesses across South Carolina.\n  \nCONTACT US
URL:https://www.aikenrotary.com/event/shull-ag-conservation-and-development/
LOCATION:Newberry Hall\, 117 Newberry St SW\, Aiken\, SC\, 29801\, United States
CATEGORIES:Guest Speaker
END:VEVENT
END:VCALENDAR