BEGIN:VCALENDAR
VERSION:2.0
PRODID:-//Rotary Club Of Aiken - ECPv6.15.18//NONSGML v1.0//EN
CALSCALE:GREGORIAN
METHOD:PUBLISH
X-WR-CALNAME:Rotary Club Of Aiken
X-ORIGINAL-URL:https://www.aikenrotary.com
X-WR-CALDESC:Events for Rotary Club Of Aiken
REFRESH-INTERVAL;VALUE=DURATION:PT1H
X-Robots-Tag:noindex
X-PUBLISHED-TTL:PT1H
BEGIN:VTIMEZONE
TZID:America/New_York
BEGIN:DAYLIGHT
TZOFFSETFROM:-0500
TZOFFSETTO:-0400
TZNAME:EDT
DTSTART:20230312T070000
END:DAYLIGHT
BEGIN:STANDARD
TZOFFSETFROM:-0400
TZOFFSETTO:-0500
TZNAME:EST
DTSTART:20231105T060000
END:STANDARD
BEGIN:DAYLIGHT
TZOFFSETFROM:-0500
TZOFFSETTO:-0400
TZNAME:EDT
DTSTART:20240310T070000
END:DAYLIGHT
BEGIN:STANDARD
TZOFFSETFROM:-0400
TZOFFSETTO:-0500
TZNAME:EST
DTSTART:20241103T060000
END:STANDARD
BEGIN:DAYLIGHT
TZOFFSETFROM:-0500
TZOFFSETTO:-0400
TZNAME:EDT
DTSTART:20250309T070000
END:DAYLIGHT
BEGIN:STANDARD
TZOFFSETFROM:-0400
TZOFFSETTO:-0500
TZNAME:EST
DTSTART:20251102T060000
END:STANDARD
END:VTIMEZONE
BEGIN:VEVENT
DTSTART;TZID=America/New_York:20240805T123000
DTEND;TZID=America/New_York:20240805T133000
DTSTAMP:20260421T015811
CREATED:20240606T181803Z
LAST-MODIFIED:20240731T184257Z
UID:6070-1722861000-1722864600@www.aikenrotary.com
SUMMARY:Club Assembly
DESCRIPTION:Club President\, Forest Mahan\, will give us an overview of Rotary\, Avenues of Service\, Club background and demographics\, brief SWOT overview. He will also discuss goals for 2024-25\, and list of officers and board members. He will give out Service Awards from last year.   \nCONTACT US
URL:https://www.aikenrotary.com/event/club-assembly-2/
LOCATION:Newberry Hall\, 117 Newberry St SW\, Aiken\, SC\, 29801\, United States
CATEGORIES:Cub Business
END:VEVENT
BEGIN:VEVENT
DTSTART;TZID=America/New_York:20240812T083000
DTEND;TZID=America/New_York:20240812T093000
DTSTAMP:20260421T015811
CREATED:20240621T192758Z
LAST-MODIFIED:20240621T192758Z
UID:6106-1723451400-1723455000@www.aikenrotary.com
SUMMARY:Mark Ward\, the Walk to End Alzheimer's Walk Organizer
DESCRIPTION:Held annually in more than 600 communities nationwide\, the Alzheimer’s Association Walk to End Alzheimer’s® is the world’s largest fundraiser for Alzheimer’s care\, support and research. This inspiring event calls on participants of all ages and abilities to join the fight against the disease. \nSince 1989\, the Alzheimer’s Association mobilized millions of Americans in the Alzheimer’s Association Memory Walk® ; now the Alzheimer’s Association is continuing to lead the way with Walk to End Alzheimer’s. \nAlzheimer’s Association Memory Walk\nWhile there is no fee to register for Walk\, all participants are encouraged to raise critical funds that allow the Alzheimer’s Association to provide 24/7 care and support and advance research toward methods of prevention\, treatment and\, ultimately\, a cure. \nHow to Participate in 3 Easy Steps: \nRegister\nRegister for your local Walk.\nStart or join a team and invite others to walk with you.\nFundraise\nStart fundraising and spread the word.\nWe’ll provide tips and coaching every step of the way\, including easy ways to recruit others and raise funds.\nWalk day\nJoin us on Walk day.\nCome together for an inspiring community event that celebrates our commitment to ending the disease.\nHave a question? Please refer to our FAQ/Website Help page. \nCONTACT US
URL:https://www.aikenrotary.com/event/mark-ward-the-walk-to-end-alzheimers-walk-organizer/
LOCATION:Newberry Hall\, 117 Newberry St SW\, Aiken\, SC\, 29801\, United States
CATEGORIES:Guest Speaker
END:VEVENT
BEGIN:VEVENT
DTSTART;TZID=America/New_York:20240819T123000
DTEND;TZID=America/New_York:20240819T133000
DTSTAMP:20260421T015811
CREATED:20240621T194355Z
LAST-MODIFIED:20240815T193031Z
UID:6108-1724070600-1724074200@www.aikenrotary.com
SUMMARY:Corey Murphy\, Superintendent of Aiken County Public School District
DESCRIPTION:Dr. Corey Murphy has been named the next superintendent for the Aiken County Public School District. \n“I consider this to be the honor of my life\,” the veteran educator said. The announcement came during a special called board meeting Monday night. Murphy’s employment contract will become effective July 1\, 2024. His contract is for a three-year term of employment.He will replace King Laurence\, who retires this summer.\nMurphy was one of three finalists for the position. He was selected over Chan Anderson and Amy Morris Edwards. \nMurphy has served as chief officer of operations and student services since 2020. He received his doctorate\, educational specialist\, Master’s of Education and Bachelor’s of Science in biology degrees from the University of South Carolina. \nMurphy’s experience also includes stints as chief of staff at Williamsburg-James City County Public Schools in Williamsburg\, Virginia\, five years as principal at Beaufort High School and five years as principal of Great Falls Middle/High School. He was an assistant principal at Camden High School as well as a classroom teacher for the South Carolina Department of Juvenile Justice and Eau Claire High School. \nCONTACT US
URL:https://www.aikenrotary.com/event/corey-murphy-superintendent-of-aiken-county-public-school-district/
LOCATION:Newberry Hall\, 117 Newberry St SW\, Aiken\, SC\, 29801\, United States
CATEGORIES:Guest Speaker
END:VEVENT
BEGIN:VEVENT
DTSTART;TZID=America/New_York:20240826T083000
DTEND;TZID=America/New_York:20240826T093000
DTSTAMP:20260421T015811
CREATED:20240814T193408Z
LAST-MODIFIED:20240814T193408Z
UID:6185-1724661000-1724664600@www.aikenrotary.com
SUMMARY:Rotary Readers\, Dr. Lisa Fallaw\, Principal\, East Aiken Elementary
DESCRIPTION:Started in 2013\, Rotary Readers is a signature program and joint literacy project between Aiken Rotary Club and East Aiken School of the Arts. Rotarians and other volunteers work with small groups of students to improve reading skills. Volunteers are assigned to groups of four\, and at least one member of each group works with a small group of students (usually four) for thirty minutes each week to improve reading\, reading comprehension and vocabulary. This program encourages a love of reading and provides the students with positive role models. Throughout the school year\, relationships are built\, and volunteers are invited to attend school programs. \nAt the beginning and end of the school year students are tested and annual program results are presented to the club to monitor the success of the program. Over the seven years\, the annual results have been overwhelming positive of the impact of the program on the participants. The program is modified each year to better serve the students and continue to improve results. Over five hundred volunteers have participated over the seven years the program has been in existence. \nCONTACT US
URL:https://www.aikenrotary.com/event/rotary-readers-dr-lisa-fallaw-principal-east-aiken-elementary/
LOCATION:Newberry Hall\, 117 Newberry St SW\, Aiken\, SC\, 29801\, United States
CATEGORIES:Guest Speaker
END:VEVENT
END:VCALENDAR